Package: TnT Version: 1.20.0 Command: rm -rf TnT.buildbin-libdir && mkdir TnT.buildbin-libdir && /Users/biocbuild/BBS/utils/build-universal.sh TnT_1.20.0.tar.gz /Library/Frameworks/R.framework/Resources/bin/R TnT.buildbin-libdir StartedAt: 2023-04-18 20:10:00 -0400 (Tue, 18 Apr 2023) EndedAt: 2023-04-18 20:10:31 -0400 (Tue, 18 Apr 2023) EllapsedTime: 30.8 seconds RetCode: 0 Status: OK PackageFile: TnT_1.20.0.tgz PackageFileSize: 503.9 KiB