Package: TENxIO Version: 1.0.1 Command: rm -rf TENxIO.buildbin-libdir && mkdir TENxIO.buildbin-libdir && /Users/biocbuild/BBS/utils/build-universal.sh TENxIO_1.0.1.tar.gz /Library/Frameworks/R.framework/Resources/bin/R TENxIO.buildbin-libdir StartedAt: 2023-04-18 20:04:55 -0400 (Tue, 18 Apr 2023) EndedAt: 2023-04-18 20:05:58 -0400 (Tue, 18 Apr 2023) EllapsedTime: 62.7 seconds RetCode: 0 Status: OK PackageFile: TENxIO_1.0.1.tgz PackageFileSize: 517.4 KiB