Package: SomaticSignatures Version: 2.34.0 Command: rm -rf SomaticSignatures.buildbin-libdir && mkdir SomaticSignatures.buildbin-libdir && /Users/biocbuild/BBS/utils/build-universal.sh SomaticSignatures_2.34.0.tar.gz /Library/Frameworks/R.framework/Resources/bin/R SomaticSignatures.buildbin-libdir StartedAt: 2023-04-18 19:44:57 -0400 (Tue, 18 Apr 2023) EndedAt: 2023-04-18 19:47:25 -0400 (Tue, 18 Apr 2023) EllapsedTime: 147.7 seconds RetCode: 0 Status: OK PackageFile: SomaticSignatures_2.34.0.tgz PackageFileSize: 2.63 MiB