Package: SingleCellExperiment Version: 1.20.1 Command: /Library/Frameworks/R.framework/Resources/bin/R CMD build --keep-empty-dirs --no-resave-data SingleCellExperiment StartedAt: 2023-04-18 07:53:51 -0400 (Tue, 18 Apr 2023) EndedAt: 2023-04-18 07:55:36 -0400 (Tue, 18 Apr 2023) EllapsedTime: 104.4 seconds RetCode: 0 Status: OK PackageFile: SingleCellExperiment_1.20.1.tar.gz PackageFileSize: 917.1 KiB