Package: SimBindProfiles Version: 1.36.0 Command: rm -rf SimBindProfiles.buildbin-libdir && mkdir SimBindProfiles.buildbin-libdir && /Users/biocbuild/BBS/utils/build-universal.sh SimBindProfiles_1.36.0.tar.gz /Library/Frameworks/R.framework/Resources/bin/R SimBindProfiles.buildbin-libdir StartedAt: 2023-04-18 19:36:39 -0400 (Tue, 18 Apr 2023) EndedAt: 2023-04-18 19:37:41 -0400 (Tue, 18 Apr 2023) EllapsedTime: 61.4 seconds RetCode: 0 Status: OK PackageFile: SimBindProfiles_1.36.0.tgz PackageFileSize: 1.897 MiB