Package: Scale4C Version: 1.20.0 Command: /Library/Frameworks/R.framework/Resources/bin/R CMD build --keep-empty-dirs --no-resave-data Scale4C StartedAt: 2023-04-18 03:21:51 -0400 (Tue, 18 Apr 2023) EndedAt: 2023-04-18 03:28:56 -0400 (Tue, 18 Apr 2023) EllapsedTime: 425.0 seconds RetCode: 0 Status: OK PackageFile: Scale4C_1.20.0.tar.gz PackageFileSize: 4.9 MiB