Package: SUITOR Version: 1.0.0 Command: rm -rf SUITOR.buildbin-libdir && mkdir SUITOR.buildbin-libdir && /Users/biocbuild/BBS/utils/build-universal.sh SUITOR_1.0.0.tar.gz /Library/Frameworks/R.framework/Resources/bin/R SUITOR.buildbin-libdir StartedAt: 2023-04-18 19:59:00 -0400 (Tue, 18 Apr 2023) EndedAt: 2023-04-18 19:59:19 -0400 (Tue, 18 Apr 2023) EllapsedTime: 18.9 seconds RetCode: 0 Status: OK PackageFile: SUITOR_1.0.0.tgz PackageFileSize: 306.6 KiB