Package: SCBN Version: 1.16.0 Command: /Library/Frameworks/R.framework/Resources/bin/R CMD INSTALL SCBN StartedAt: 2023-04-16 14:07:18 -0400 (Sun, 16 Apr 2023) EndedAt: 2023-04-16 14:07:22 -0400 (Sun, 16 Apr 2023) EllapsedTime: 4.0 seconds RetCode: 0 Status: OK