Package: Rgraphviz Version: 2.42.0 Command: rm -rf Rgraphviz.buildbin-libdir && mkdir Rgraphviz.buildbin-libdir && /Users/biocbuild/BBS/utils/build-universal.sh Rgraphviz_2.42.0.tar.gz /Library/Frameworks/R.framework/Resources/bin/R Rgraphviz.buildbin-libdir StartedAt: 2023-04-18 18:47:02 -0400 (Tue, 18 Apr 2023) EndedAt: 2023-04-18 18:54:40 -0400 (Tue, 18 Apr 2023) EllapsedTime: 458.2 seconds RetCode: 0 Status: OK PackageFile: Rgraphviz_2.42.0.tgz PackageFileSize: 1.681 MiB