Package: RUVcorr Version: 1.30.0 Command: /Library/Frameworks/R.framework/Resources/bin/R CMD INSTALL RUVcorr StartedAt: 2023-04-16 15:08:54 -0400 (Sun, 16 Apr 2023) EndedAt: 2023-04-16 15:09:03 -0400 (Sun, 16 Apr 2023) EllapsedTime: 9.0 seconds RetCode: 0 Status: OK