Package: RCX Version: 1.2.2 Command: /Library/Frameworks/R.framework/Resources/bin/R CMD build --keep-empty-dirs --no-resave-data RCX StartedAt: 2023-04-18 00:17:12 -0400 (Tue, 18 Apr 2023) EndedAt: 2023-04-18 00:17:43 -0400 (Tue, 18 Apr 2023) EllapsedTime: 31.6 seconds RetCode: 0 Status: OK PackageFile: RCX_1.2.2.tar.gz PackageFileSize: 4.573 MiB