| Back to Mac ARM64 build report for BioC 3.16 |
|
This page was generated on 2023-04-19 11:01:51 -0400 (Wed, 19 Apr 2023).
| Hostname | OS | Arch (*) | R version | Installed pkgs |
|---|---|---|---|---|
| kjohnson | macOS 13.0 Ventura | arm64 | 4.2.2 (2022-10-31) -- "Innocent and Trusting" | 4256 |
| Click on any hostname to see more info about the system (e.g. compilers) (*) as reported by 'uname -p', except on Windows and Mac OS X | ||||
|
To the developers/maintainers of the RBGL package: Make sure to use the following settings in order to reproduce any error or warning you see on this page. |
| Package 1600/2183 | Hostname | OS / Arch | INSTALL | BUILD | BUILD BIN | ||||||||
| RBGL 1.74.0 (landing page) Bioconductor Package Maintainer
| kjohnson | macOS 13.0 Ventura / arm64 | OK | OK | OK | ||||||||
| QUICK STATS | OS / Arch | INSTALL | BUILD | BUILD BIN | |||||||||||||
| kjohnson | macOS 13.0 Ventura / arm64 |
|
|
| |||||||||||||
| Package 1/26 | Hostname | OS / Arch | INSTALL | BUILD | BUILD BIN | ||||||||||||
| alpine 1.24.0 (landing page) Michael Love
| kjohnson | macOS 13.0 Ventura / arm64 | OK | OK | OK | ||||||||||||
| Package 2/26 | Hostname | OS / Arch | INSTALL | BUILD | BUILD BIN | ||||||||||||
| apComplex 2.64.0 (landing page) Denise Scholtens
| kjohnson | macOS 13.0 Ventura / arm64 | OK | OK | OK | ||||||||||||
| Package 3/26 | Hostname | OS / Arch | INSTALL | BUILD | BUILD BIN | ||||||||||||
| BiocPkgTools 1.16.1 (landing page) Sean Davis
| kjohnson | macOS 13.0 Ventura / arm64 | OK | OK | OK | ||||||||||||
| Package 4/26 | Hostname | OS / Arch | INSTALL | BUILD | BUILD BIN | ||||||||||||
| biocViews 1.66.3 (landing page) Bioconductor Package Maintainer
| kjohnson | macOS 13.0 Ventura / arm64 | OK | OK | OK | ||||||||||||
| Package 5/26 | Hostname | OS / Arch | INSTALL | BUILD | BUILD BIN | ||||||||||||
| BioNet 1.58.0 (landing page) Marcus Dittrich
| kjohnson | macOS 13.0 Ventura / arm64 | OK | OK | OK | ||||||||||||
| Package 6/26 | Hostname | OS / Arch | INSTALL | BUILD | BUILD BIN | ||||||||||||
| CAMERA 1.54.0 (landing page) Steffen Neumann
| kjohnson | macOS 13.0 Ventura / arm64 | OK | OK | OK | ||||||||||||
| Package 7/26 | Hostname | OS / Arch | INSTALL | BUILD | BUILD BIN | ||||||||||||
| Category 2.64.0 (landing page) Bioconductor Package Maintainer
| kjohnson | macOS 13.0 Ventura / arm64 | OK | OK | OK | ||||||||||||
| Package 8/26 | Hostname | OS / Arch | INSTALL | BUILD | BUILD BIN | ||||||||||||
| CellNOptR 1.44.0 (landing page) Attila Gabor
| kjohnson | macOS 13.0 Ventura / arm64 | OK | OK | OK | ||||||||||||
| Package 9/26 | Hostname | OS / Arch | INSTALL | BUILD | BUILD BIN | ||||||||||||
| ChIPpeakAnno 3.32.0 (landing page) Jianhong Ou
| kjohnson | macOS 13.0 Ventura / arm64 | OK | OK | OK | ||||||||||||
| Package 10/26 | Hostname | OS / Arch | INSTALL | BUILD | BUILD BIN | ||||||||||||
| CHRONOS 1.26.0 (landing page) Panos Balomenos
| kjohnson | macOS 13.0 Ventura / arm64 | OK | ERROR | skipped | ||||||||||||
| Package 11/26 | Hostname | OS / Arch | INSTALL | BUILD | BUILD BIN | ||||||||||||
| clipper 1.38.0 (landing page) Paolo Martini
| kjohnson | macOS 13.0 Ventura / arm64 | OK | OK | OK | ||||||||||||
| Package 12/26 | Hostname | OS / Arch | INSTALL | BUILD | BUILD BIN | ||||||||||||
| CytoML 2.10.0 (landing page) Mike Jiang
| kjohnson | macOS 13.0 Ventura / arm64 | OK | OK | OK | ||||||||||||
| Package 13/26 | Hostname | OS / Arch | INSTALL | BUILD | BUILD BIN | ||||||||||||
| DEsubs 1.24.0 (landing page) Aristidis G. Vrahatis
| kjohnson | macOS 13.0 Ventura / arm64 | OK | OK | OK | ||||||||||||
| Package 14/26 | Hostname | OS / Arch | INSTALL | BUILD | BUILD BIN | ||||||||||||
| EventPointer 3.6.0 (landing page) Juan A. Ferrer-Bonsoms
| kjohnson | macOS 13.0 Ventura / arm64 | OK | OK | OK | ||||||||||||
| Package 15/26 | Hostname | OS / Arch | INSTALL | BUILD | BUILD BIN | ||||||||||||
| fgga 1.6.0 (landing page) Flavio Spetale
| kjohnson | macOS 13.0 Ventura / arm64 | OK | OK | OK | ||||||||||||
| Package 16/26 | Hostname | OS / Arch | INSTALL | BUILD | BUILD BIN | ||||||||||||
| flowWorkspace 4.10.1 (landing page) Greg Finak
| kjohnson | macOS 13.0 Ventura / arm64 | OK | OK | OK | ||||||||||||
| Package 17/26 | Hostname | OS / Arch | INSTALL | BUILD | BUILD BIN | ||||||||||||
| GAPGOM 1.14.0 (landing page) Rezvan Ehsani
| kjohnson | macOS 13.0 Ventura / arm64 | OK | ERROR | skipped | ||||||||||||
| Package 18/26 | Hostname | OS / Arch | INSTALL | BUILD | BUILD BIN | ||||||||||||
| GenomicInteractionNodes 1.2.0 (landing page) Jianhong Ou
| kjohnson | macOS 13.0 Ventura / arm64 | OK | OK | OK | ||||||||||||
| Package 19/26 | Hostname | OS / Arch | INSTALL | BUILD | BUILD BIN | ||||||||||||
| GOSim 1.36.0 (landing page) Holger Froehlich
| kjohnson | macOS 13.0 Ventura / arm64 | OK | OK | OK | ||||||||||||
| Package 20/26 | Hostname | OS / Arch | INSTALL | BUILD | BUILD BIN | ||||||||||||
| GOstats 2.64.0 (landing page) Bioconductor Package Maintainer
| kjohnson | macOS 13.0 Ventura / arm64 | OK | OK | OK | ||||||||||||
| Package 21/26 | Hostname | OS / Arch | INSTALL | BUILD | BUILD BIN | ||||||||||||
| MIGSA 1.22.0 (landing page) Juan C. Rodriguez
| kjohnson | macOS 13.0 Ventura / arm64 | OK | ERROR | skipped | ||||||||||||
| Package 22/26 | Hostname | OS / Arch | INSTALL | BUILD | BUILD BIN | ||||||||||||
| openCyto 2.10.1 (landing page) Mike Jiang
| kjohnson | macOS 13.0 Ventura / arm64 | OK | ERROR | skipped | ||||||||||||
| Package 23/26 | Hostname | OS / Arch | INSTALL | BUILD | BUILD BIN | ||||||||||||
| OrganismDbi 1.40.0 (landing page) Bioconductor Package Maintainer
| kjohnson | macOS 13.0 Ventura / arm64 | OK | OK | OK | ||||||||||||
| Package 24/26 | Hostname | OS / Arch | INSTALL | BUILD | BUILD BIN | ||||||||||||
| pkgDepTools 1.64.0 (landing page) Bioconductor Package Maintainer
| kjohnson | macOS 13.0 Ventura / arm64 | OK | OK | OK | ||||||||||||
| Package 25/26 | Hostname | OS / Arch | INSTALL | BUILD | BUILD BIN | ||||||||||||
| Streamer 1.44.0 (landing page) Martin Morgan
| kjohnson | macOS 13.0 Ventura / arm64 | OK | OK | OK | ||||||||||||
| Package 26/26 | Hostname | OS / Arch | INSTALL | BUILD | BUILD BIN | ||||||||||||
| VariantFiltering 1.34.0 (landing page) Robert Castelo
| kjohnson | macOS 13.0 Ventura / arm64 | OK | ERROR | skipped | ||||||||||||