Package: PROPS Version: 1.20.0 Command: rm -rf PROPS.buildbin-libdir && mkdir PROPS.buildbin-libdir && /Users/biocbuild/BBS/utils/build-universal.sh PROPS_1.20.0.tar.gz /Library/Frameworks/R.framework/Resources/bin/R PROPS.buildbin-libdir StartedAt: 2023-04-18 18:23:47 -0400 (Tue, 18 Apr 2023) EndedAt: 2023-04-18 18:24:40 -0400 (Tue, 18 Apr 2023) EllapsedTime: 52.8 seconds RetCode: 0 Status: OK PackageFile: PROPS_1.20.0.tgz PackageFileSize: 3.604 MiB