Package: Organism.dplyr Version: 1.26.0 Command: rm -rf Organism.dplyr.buildbin-libdir && mkdir Organism.dplyr.buildbin-libdir && /Users/biocbuild/BBS/utils/build-universal.sh Organism.dplyr_1.26.0.tar.gz /Library/Frameworks/R.framework/Resources/bin/R Organism.dplyr.buildbin-libdir StartedAt: 2023-04-18 18:04:57 -0400 (Tue, 18 Apr 2023) EndedAt: 2023-04-18 18:06:22 -0400 (Tue, 18 Apr 2023) EllapsedTime: 85.4 seconds RetCode: 0 Status: OK PackageFile: Organism.dplyr_1.26.0.tgz PackageFileSize: 867.7 KiB