Package: NanoMethViz Version: 2.4.2 Command: /Library/Frameworks/R.framework/Resources/bin/R CMD INSTALL NanoMethViz StartedAt: 2023-04-16 16:48:30 -0400 (Sun, 16 Apr 2023) EndedAt: 2023-04-16 16:50:14 -0400 (Sun, 16 Apr 2023) EllapsedTime: 103.5 seconds RetCode: 0 Status: OK