Package: NanoMethViz Version: 2.4.2 Command: /Library/Frameworks/R.framework/Resources/bin/R CMD build --keep-empty-dirs --no-resave-data NanoMethViz StartedAt: 2023-04-17 18:26:12 -0400 (Mon, 17 Apr 2023) EndedAt: 2023-04-17 18:28:39 -0400 (Mon, 17 Apr 2023) EllapsedTime: 146.5 seconds RetCode: 0 Status: OK PackageFile: NanoMethViz_2.4.2.tar.gz PackageFileSize: 4.171 MiB