Package: MethylMix Version: 2.28.0 Command: /Library/Frameworks/R.framework/Resources/bin/R CMD build --keep-empty-dirs --no-resave-data MethylMix StartedAt: 2023-04-17 14:52:31 -0400 (Mon, 17 Apr 2023) EndedAt: 2023-04-17 14:53:13 -0400 (Mon, 17 Apr 2023) EllapsedTime: 42.4 seconds RetCode: 0 Status: OK PackageFile: MethylMix_2.28.0.tar.gz PackageFileSize: 2.576 MiB