Package: MassSpecWavelet Version: 1.64.1 Command: rm -rf MassSpecWavelet.buildbin-libdir && mkdir MassSpecWavelet.buildbin-libdir && /Users/biocbuild/BBS/utils/build-universal.sh MassSpecWavelet_1.64.1.tar.gz /Library/Frameworks/R.framework/Resources/bin/R MassSpecWavelet.buildbin-libdir StartedAt: 2023-04-18 16:57:55 -0400 (Tue, 18 Apr 2023) EndedAt: 2023-04-18 16:58:07 -0400 (Tue, 18 Apr 2023) EllapsedTime: 12.3 seconds RetCode: 0 Status: OK PackageFile: MassSpecWavelet_1.64.1.tgz PackageFileSize: 1.944 MiB