Package: MEB Version: 1.12.0 Command: /Library/Frameworks/R.framework/Resources/bin/R CMD INSTALL MEB StartedAt: 2023-04-16 14:51:06 -0400 (Sun, 16 Apr 2023) EndedAt: 2023-04-16 14:51:38 -0400 (Sun, 16 Apr 2023) EllapsedTime: 32.3 seconds RetCode: 0 Status: OK