Package: INDEED Version: 2.12.0 Command: /Library/Frameworks/R.framework/Resources/bin/R CMD build --keep-empty-dirs --no-resave-data INDEED StartedAt: 2023-04-17 11:13:18 -0400 (Mon, 17 Apr 2023) EndedAt: 2023-04-17 11:13:29 -0400 (Mon, 17 Apr 2023) EllapsedTime: 10.9 seconds RetCode: 0 Status: OK PackageFile: INDEED_2.12.0.tar.gz PackageFileSize: 1.857 MiB