Package: INDEED Version: 2.12.0 Command: rm -rf INDEED.buildbin-libdir && mkdir INDEED.buildbin-libdir && /Users/biocbuild/BBS/utils/build-universal.sh INDEED_2.12.0.tar.gz /Library/Frameworks/R.framework/Resources/bin/R INDEED.buildbin-libdir StartedAt: 2023-04-18 16:34:32 -0400 (Tue, 18 Apr 2023) EndedAt: 2023-04-18 16:34:48 -0400 (Tue, 18 Apr 2023) EllapsedTime: 16.5 seconds RetCode: 0 Status: OK PackageFile: INDEED_2.12.0.tgz PackageFileSize: 779.3 KiB