Package: HiCDCPlus Version: 1.6.0 Command: /Library/Frameworks/R.framework/Resources/bin/R CMD build --keep-empty-dirs --no-resave-data HiCDCPlus StartedAt: 2023-04-17 10:13:14 -0400 (Mon, 17 Apr 2023) EndedAt: 2023-04-17 10:15:35 -0400 (Mon, 17 Apr 2023) EllapsedTime: 141.9 seconds RetCode: 0 Status: OK PackageFile: HiCDCPlus_1.6.0.tar.gz PackageFileSize: 1.189 MiB