Package: HiCDCPlus Version: 1.6.0 Command: rm -rf HiCDCPlus.buildbin-libdir && mkdir HiCDCPlus.buildbin-libdir && /Users/biocbuild/BBS/utils/build-universal.sh HiCDCPlus_1.6.0.tar.gz /Library/Frameworks/R.framework/Resources/bin/R HiCDCPlus.buildbin-libdir StartedAt: 2023-04-18 16:25:26 -0400 (Tue, 18 Apr 2023) EndedAt: 2023-04-18 16:27:16 -0400 (Tue, 18 Apr 2023) EllapsedTime: 109.8 seconds RetCode: 0 Status: OK PackageFile: HiCDCPlus_1.6.0.tgz PackageFileSize: 1.408 MiB