Package: GenomicTuples Version: 1.32.0 Command: /Library/Frameworks/R.framework/Resources/bin/R CMD INSTALL GenomicTuples StartedAt: 2023-04-16 14:28:09 -0400 (Sun, 16 Apr 2023) EndedAt: 2023-04-16 14:29:04 -0400 (Sun, 16 Apr 2023) EllapsedTime: 54.8 seconds RetCode: 0 Status: OK