Package: GenomicScores Version: 2.10.0 Command: /Library/Frameworks/R.framework/Resources/bin/R CMD INSTALL GenomicScores StartedAt: 2023-04-16 15:26:15 -0400 (Sun, 16 Apr 2023) EndedAt: 2023-04-16 15:27:09 -0400 (Sun, 16 Apr 2023) EllapsedTime: 53.9 seconds RetCode: 0 Status: OK