Package: GenomicScores Version: 2.10.0 Command: /Library/Frameworks/R.framework/Resources/bin/R CMD build --keep-empty-dirs --no-resave-data GenomicScores StartedAt: 2023-04-17 07:47:59 -0400 (Mon, 17 Apr 2023) EndedAt: 2023-04-17 07:51:44 -0400 (Mon, 17 Apr 2023) EllapsedTime: 224.8 seconds RetCode: 0 Status: OK PackageFile: GenomicScores_2.10.0.tar.gz PackageFileSize: 2.491 MiB