Package: GenomicScores Version: 2.10.0 Command: rm -rf GenomicScores.buildbin-libdir && mkdir GenomicScores.buildbin-libdir && /Users/biocbuild/BBS/utils/build-universal.sh GenomicScores_2.10.0.tar.gz /Library/Frameworks/R.framework/Resources/bin/R GenomicScores.buildbin-libdir StartedAt: 2023-04-18 16:05:39 -0400 (Tue, 18 Apr 2023) EndedAt: 2023-04-18 16:07:08 -0400 (Tue, 18 Apr 2023) EllapsedTime: 89.6 seconds RetCode: 0 Status: OK PackageFile: GenomicScores_2.10.0.tgz PackageFileSize: 2.873 MiB