Package: GeneMeta Version: 1.70.0 Command: /Library/Frameworks/R.framework/Resources/bin/R CMD INSTALL GeneMeta StartedAt: 2023-04-16 17:45:59 -0400 (Sun, 16 Apr 2023) EndedAt: 2023-04-16 17:46:26 -0400 (Sun, 16 Apr 2023) EllapsedTime: 26.6 seconds RetCode: 0 Status: OK