Package: GeneMeta Version: 1.70.0 Command: /Library/Frameworks/R.framework/Resources/bin/R CMD build --keep-empty-dirs --no-resave-data GeneMeta StartedAt: 2023-04-17 07:23:26 -0400 (Mon, 17 Apr 2023) EndedAt: 2023-04-17 07:24:07 -0400 (Mon, 17 Apr 2023) EllapsedTime: 41.0 seconds RetCode: 0 Status: OK PackageFile: GeneMeta_1.70.0.tar.gz PackageFileSize: 2.704 MiB