Package: GSEAlm Version: 1.58.0 Command: /Library/Frameworks/R.framework/Resources/bin/R CMD INSTALL GSEAlm StartedAt: 2023-04-16 14:33:22 -0400 (Sun, 16 Apr 2023) EndedAt: 2023-04-16 14:33:29 -0400 (Sun, 16 Apr 2023) EllapsedTime: 6.9 seconds RetCode: 0 Status: OK