Package: GSEAlm Version: 1.58.0 Command: /Library/Frameworks/R.framework/Resources/bin/R CMD build --keep-empty-dirs --no-resave-data GSEAlm StartedAt: 2023-04-17 09:30:49 -0400 (Mon, 17 Apr 2023) EndedAt: 2023-04-17 09:31:55 -0400 (Mon, 17 Apr 2023) EllapsedTime: 65.8 seconds RetCode: 0 Status: OK PackageFile: GSEAlm_1.58.0.tar.gz PackageFileSize: 1.243 MiB