Package: GSEAlm Version: 1.58.0 Command: rm -rf GSEAlm.buildbin-libdir && mkdir GSEAlm.buildbin-libdir && /Users/biocbuild/BBS/utils/build-universal.sh GSEAlm_1.58.0.tar.gz /Library/Frameworks/R.framework/Resources/bin/R GSEAlm.buildbin-libdir StartedAt: 2023-04-18 16:18:53 -0400 (Tue, 18 Apr 2023) EndedAt: 2023-04-18 16:19:04 -0400 (Tue, 18 Apr 2023) EllapsedTime: 11.2 seconds RetCode: 0 Status: OK PackageFile: GSEAlm_1.58.0.tgz PackageFileSize: 1.232 MiB