Package: GRENITS Version: 1.50.2 Command: rm -rf GRENITS.buildbin-libdir && mkdir GRENITS.buildbin-libdir && /Users/biocbuild/BBS/utils/build-universal.sh GRENITS_1.50.2.tar.gz /Library/Frameworks/R.framework/Resources/bin/R GRENITS.buildbin-libdir StartedAt: 2023-04-18 16:17:17 -0400 (Tue, 18 Apr 2023) EndedAt: 2023-04-18 16:20:37 -0400 (Tue, 18 Apr 2023) EllapsedTime: 200.4 seconds RetCode: 0 Status: OK PackageFile: GRENITS_1.50.2.tgz PackageFileSize: 539 KiB