Package: FitHiC Version: 1.24.0 Command: /Library/Frameworks/R.framework/Resources/bin/R CMD build --keep-empty-dirs --no-resave-data FitHiC StartedAt: 2023-04-17 06:29:53 -0400 (Mon, 17 Apr 2023) EndedAt: 2023-04-17 06:32:26 -0400 (Mon, 17 Apr 2023) EllapsedTime: 153.2 seconds RetCode: 0 Status: OK PackageFile: FitHiC_1.24.0.tar.gz PackageFileSize: 27.54 MiB