Package: ExpressionAtlas Version: 1.26.0 Command: /Library/Frameworks/R.framework/Resources/bin/R CMD build --keep-empty-dirs --no-resave-data ExpressionAtlas StartedAt: 2023-04-17 06:03:35 -0400 (Mon, 17 Apr 2023) EndedAt: 2023-04-17 06:04:08 -0400 (Mon, 17 Apr 2023) EllapsedTime: 33.1 seconds RetCode: 0 Status: OK PackageFile: ExpressionAtlas_1.26.0.tar.gz PackageFileSize: 318.9 KiB