| Back to Mac ARM64 build report for BioC 3.16 |
|
This page was generated on 2023-04-19 11:01:48 -0400 (Wed, 19 Apr 2023).
| Hostname | OS | Arch (*) | R version | Installed pkgs |
|---|---|---|---|---|
| kjohnson | macOS 13.0 Ventura | arm64 | 4.2.2 (2022-10-31) -- "Innocent and Trusting" | 4256 |
| Click on any hostname to see more info about the system (e.g. compilers) (*) as reported by 'uname -p', except on Windows and Mac OS X | ||||
|
To the developers/maintainers of the ExperimentHub package: Make sure to use the following settings in order to reproduce any error or warning you see on this page. |
| Package 647/2183 | Hostname | OS / Arch | INSTALL | BUILD | BUILD BIN | ||||||||
| ExperimentHub 2.6.0 (landing page) Bioconductor Package Maintainer
| kjohnson | macOS 13.0 Ventura / arm64 | OK | OK | OK | ||||||||
| QUICK STATS | OS / Arch | INSTALL | BUILD | BUILD BIN | |||||||||||||
| kjohnson | macOS 13.0 Ventura / arm64 |
|
|
| |||||||||||||
| Package 1/21 | Hostname | OS / Arch | INSTALL | BUILD | BUILD BIN | ||||||||||||
| adductomicsR 1.14.0 (landing page) Josie Hayes
| kjohnson | macOS 13.0 Ventura / arm64 | OK | OK | OK | ||||||||||||
| Package 2/21 | Hostname | OS / Arch | INSTALL | BUILD | BUILD BIN | ||||||||||||
| BloodGen3Module 1.6.0 (landing page) Darawan Rinchai
| kjohnson | macOS 13.0 Ventura / arm64 | OK | OK | OK | ||||||||||||
| Package 3/21 | Hostname | OS / Arch | INSTALL | BUILD | BUILD BIN | ||||||||||||
| coMethDMR 1.2.0 (landing page) Fernanda Veitzman
| kjohnson | macOS 13.0 Ventura / arm64 | OK | OK | OK | ||||||||||||
| Package 4/21 | Hostname | OS / Arch | INSTALL | BUILD | BUILD BIN | ||||||||||||
| DMRcate 2.12.0 (landing page) Tim Peters
| kjohnson | macOS 13.0 Ventura / arm64 | OK | OK | OK | ||||||||||||
| Package 5/21 | Hostname | OS / Arch | INSTALL | BUILD | BUILD BIN | ||||||||||||
| ENmix 1.34.02 (landing page) Zongli Xu
| kjohnson | macOS 13.0 Ventura / arm64 | OK | OK | OK | ||||||||||||
| Package 6/21 | Hostname | OS / Arch | INSTALL | BUILD | BUILD BIN | ||||||||||||
| EpiMix 1.0.2 (landing page) Yuanning Zheng
| kjohnson | macOS 13.0 Ventura / arm64 | OK | ERROR | skipped | ||||||||||||
| Package 7/21 | Hostname | OS / Arch | INSTALL | BUILD | BUILD BIN | ||||||||||||
| epimutacions 1.2.0 (landing page) Dolors Pelegri-Siso
| kjohnson | macOS 13.0 Ventura / arm64 | OK | OK | OK | ||||||||||||
| Package 8/21 | Hostname | OS / Arch | INSTALL | BUILD | BUILD BIN | ||||||||||||
| ExperimentHubData 1.24.0 (landing page) Bioconductor Package Maintainer
| kjohnson | macOS 13.0 Ventura / arm64 | OK | OK | OK | ||||||||||||
| Package 9/21 | Hostname | OS / Arch | INSTALL | BUILD | BUILD BIN | ||||||||||||
| GSEABenchmarkeR 1.18.0 (landing page) Ludwig Geistlinger
| kjohnson | macOS 13.0 Ventura / arm64 | OK | OK | OK | ||||||||||||
| Package 10/21 | Hostname | OS / Arch | INSTALL | BUILD | BUILD BIN | ||||||||||||
| iSEEhub 1.0.0 (landing page) Kevin Rue-Albrecht
| kjohnson | macOS 13.0 Ventura / arm64 | OK | OK | OK | ||||||||||||
| Package 11/21 | Hostname | OS / Arch | INSTALL | BUILD | BUILD BIN | ||||||||||||
| LRcell 1.6.0 (landing page) Wenjing Ma
| kjohnson | macOS 13.0 Ventura / arm64 | OK | OK | OK | ||||||||||||
| Package 12/21 | Hostname | OS / Arch | INSTALL | BUILD | BUILD BIN | ||||||||||||
| m6Aboost 1.4.0 (landing page) You Zhou
| kjohnson | macOS 13.0 Ventura / arm64 | OK | OK | OK | ||||||||||||
| Package 13/21 | Hostname | OS / Arch | INSTALL | BUILD | BUILD BIN | ||||||||||||
| MACSr 1.6.0 (landing page) Qiang Hu
| kjohnson | macOS 13.0 Ventura / arm64 | OK | OK | OK | ||||||||||||
| Package 14/21 | Hostname | OS / Arch | INSTALL | BUILD | BUILD BIN | ||||||||||||
| MethReg 1.8.0 (landing page) Tiago Silva
| kjohnson | macOS 13.0 Ventura / arm64 | OK | OK | OK | ||||||||||||
| Package 15/21 | Hostname | OS / Arch | INSTALL | BUILD | BUILD BIN | ||||||||||||
| methylclock 1.4.0 (landing page) Dolors Pelegri-Siso
| kjohnson | macOS 13.0 Ventura / arm64 | OK | OK | OK | ||||||||||||
| Package 16/21 | Hostname | OS / Arch | INSTALL | BUILD | BUILD BIN | ||||||||||||
| octad 1.0.0 (landing page) E. Chekalin
| kjohnson | macOS 13.0 Ventura / arm64 | OK | OK | OK | ||||||||||||
| Package 17/21 | Hostname | OS / Arch | INSTALL | BUILD | BUILD BIN | ||||||||||||
| PhyloProfile 1.12.6 (landing page) Vinh Tran
| kjohnson | macOS 13.0 Ventura / arm64 | OK | OK | OK | ||||||||||||
| Package 18/21 | Hostname | OS / Arch | INSTALL | BUILD | BUILD BIN | ||||||||||||
| restfulSE 1.20.0 (landing page) Shweta Gopaulakrishnan
| kjohnson | macOS 13.0 Ventura / arm64 | OK | OK | OK | ||||||||||||
| Package 19/21 | Hostname | OS / Arch | INSTALL | BUILD | BUILD BIN | ||||||||||||
| SeqSQC 1.20.0 (landing page) Qian Liu
| kjohnson | macOS 13.0 Ventura / arm64 | OK | OK | OK | ||||||||||||
| Package 20/21 | Hostname | OS / Arch | INSTALL | BUILD | BUILD BIN | ||||||||||||
| signatureSearch 1.12.0 (landing page) Brendan Gongol
| kjohnson | macOS 13.0 Ventura / arm64 | OK | OK | OK | ||||||||||||
| Package 21/21 | Hostname | OS / Arch | INSTALL | BUILD | BUILD BIN | ||||||||||||
| singleCellTK 2.8.0 (landing page) Yichen Wang
| kjohnson | macOS 13.0 Ventura / arm64 | OK | OK | OK | ||||||||||||