Package: DominoEffect Version: 1.18.0 Command: /Library/Frameworks/R.framework/Resources/bin/R CMD INSTALL DominoEffect StartedAt: 2023-04-16 16:27:51 -0400 (Sun, 16 Apr 2023) EndedAt: 2023-04-16 16:28:55 -0400 (Sun, 16 Apr 2023) EllapsedTime: 64.0 seconds RetCode: 0 Status: OK