Package: DEScan2 Version: 1.18.2 Command: rm -rf DEScan2.buildbin-libdir && mkdir DEScan2.buildbin-libdir && /Users/biocbuild/BBS/utils/build-universal.sh DEScan2_1.18.2.tar.gz /Library/Frameworks/R.framework/Resources/bin/R DEScan2.buildbin-libdir StartedAt: 2023-04-18 15:11:38 -0400 (Tue, 18 Apr 2023) EndedAt: 2023-04-18 15:14:03 -0400 (Tue, 18 Apr 2023) EllapsedTime: 145.2 seconds RetCode: 0 Status: OK PackageFile: DEScan2_1.18.2.tgz PackageFileSize: 2.578 MiB