Package: CellTrails Version: 1.16.0 Command: /Library/Frameworks/R.framework/Resources/bin/R CMD INSTALL CellTrails StartedAt: 2023-04-16 15:47:48 -0400 (Sun, 16 Apr 2023) EndedAt: 2023-04-16 15:48:36 -0400 (Sun, 16 Apr 2023) EllapsedTime: 48.9 seconds RetCode: 0 Status: OK