Package: CellTrails Version: 1.16.0 Command: rm -rf CellTrails.buildbin-libdir && mkdir CellTrails.buildbin-libdir && /Users/biocbuild/BBS/utils/build-universal.sh CellTrails_1.16.0.tar.gz /Library/Frameworks/R.framework/Resources/bin/R CellTrails.buildbin-libdir StartedAt: 2023-04-18 14:19:36 -0400 (Tue, 18 Apr 2023) EndedAt: 2023-04-18 14:20:45 -0400 (Tue, 18 Apr 2023) EllapsedTime: 69.5 seconds RetCode: 0 Status: OK PackageFile: CellTrails_1.16.0.tgz PackageFileSize: 3.003 MiB