Package: CATALYST Version: 1.22.0 Command: /Library/Frameworks/R.framework/Resources/bin/R CMD build --keep-empty-dirs --no-resave-data CATALYST StartedAt: 2023-04-16 22:57:14 -0400 (Sun, 16 Apr 2023) EndedAt: 2023-04-16 23:01:04 -0400 (Sun, 16 Apr 2023) EllapsedTime: 230.2 seconds RetCode: 0 Status: OK PackageFile: CATALYST_1.22.0.tar.gz PackageFileSize: 10.26 MiB