Package: CATALYST Version: 1.22.0 Command: rm -rf CATALYST.buildbin-libdir && mkdir CATALYST.buildbin-libdir && /Users/biocbuild/BBS/utils/build-universal.sh CATALYST_1.22.0.tar.gz /Library/Frameworks/R.framework/Resources/bin/R CATALYST.buildbin-libdir StartedAt: 2023-04-18 14:13:29 -0400 (Tue, 18 Apr 2023) EndedAt: 2023-04-18 14:15:02 -0400 (Tue, 18 Apr 2023) EllapsedTime: 92.6 seconds RetCode: 0 Status: OK PackageFile: CATALYST_1.22.0.tgz PackageFileSize: 11.08 MiB