Package: Biostrings Version: 2.66.0 Command: /Library/Frameworks/R.framework/Resources/bin/R CMD build --keep-empty-dirs --no-resave-data Biostrings StartedAt: 2023-04-16 22:08:11 -0400 (Sun, 16 Apr 2023) EndedAt: 2023-04-16 22:10:06 -0400 (Sun, 16 Apr 2023) EllapsedTime: 114.5 seconds RetCode: 0 Status: OK PackageFile: Biostrings_2.66.0.tar.gz PackageFileSize: 12.2 MiB