Package: Biostrings Version: 2.66.0 Command: rm -rf Biostrings.buildbin-libdir && mkdir Biostrings.buildbin-libdir && /Users/biocbuild/BBS/utils/build-universal.sh Biostrings_2.66.0.tar.gz /Library/Frameworks/R.framework/Resources/bin/R Biostrings.buildbin-libdir StartedAt: 2023-04-18 14:01:14 -0400 (Tue, 18 Apr 2023) EndedAt: 2023-04-18 14:02:53 -0400 (Tue, 18 Apr 2023) EllapsedTime: 99.2 seconds RetCode: 0 Status: OK PackageFile: Biostrings_2.66.0.tgz PackageFileSize: 13.64 MiB