| Back to Mac ARM64 build report for BioC 3.16 |
|
This page was generated on 2023-04-19 11:01:47 -0400 (Wed, 19 Apr 2023).
| Hostname | OS | Arch (*) | R version | Installed pkgs |
|---|---|---|---|---|
| kjohnson | macOS 13.0 Ventura | arm64 | 4.2.2 (2022-10-31) -- "Innocent and Trusting" | 4256 |
| Click on any hostname to see more info about the system (e.g. compilers) (*) as reported by 'uname -p', except on Windows and Mac OS X | ||||
|
To the developers/maintainers of the BiocStyle package: Make sure to use the following settings in order to reproduce any error or warning you see on this page. |
| Package 174/2183 | Hostname | OS / Arch | INSTALL | BUILD | BUILD BIN | ||||||||
| BiocStyle 2.26.0 (landing page) Bioconductor Package
| kjohnson | macOS 13.0 Ventura / arm64 | OK | OK | OK | ||||||||
| QUICK STATS | OS / Arch | INSTALL | BUILD | BUILD BIN | |||||||||||||
| kjohnson | macOS 13.0 Ventura / arm64 |
|
|
| |||||||||||||
| Package 1/29 | Hostname | OS / Arch | INSTALL | BUILD | BUILD BIN | ||||||||||||
| abseqR 1.16.0 (landing page) JiaHong Fong
| kjohnson | macOS 13.0 Ventura / arm64 | OK | OK | OK | ||||||||||||
| Package 2/29 | Hostname | OS / Arch | INSTALL | BUILD | BUILD BIN | ||||||||||||
| ASpli 2.8.0 (landing page) Estefania Mancini
| kjohnson | macOS 13.0 Ventura / arm64 | OK | OK | OK | ||||||||||||
| Package 3/29 | Hostname | OS / Arch | INSTALL | BUILD | BUILD BIN | ||||||||||||
| bandle 1.2.2 (landing page) Oliver M. Crook
| kjohnson | macOS 13.0 Ventura / arm64 | OK | OK | OK | ||||||||||||
| Package 4/29 | Hostname | OS / Arch | INSTALL | BUILD | BUILD BIN | ||||||||||||
| BiocWorkflowTools 1.24.0 (landing page) Mike Smith
| kjohnson | macOS 13.0 Ventura / arm64 | OK | OK | OK | ||||||||||||
| Package 5/29 | Hostname | OS / Arch | INSTALL | BUILD | BUILD BIN | ||||||||||||
| BPRMeth 1.24.2 (landing page) Chantriolnt-Andreas Kapourani
| kjohnson | macOS 13.0 Ventura / arm64 | OK | OK | OK | ||||||||||||
| Package 6/29 | Hostname | OS / Arch | INSTALL | BUILD | BUILD BIN | ||||||||||||
| BubbleTree 2.28.0 (landing page) Todd Creasy
| kjohnson | macOS 13.0 Ventura / arm64 | OK | OK | OK | ||||||||||||
| Package 7/29 | Hostname | OS / Arch | INSTALL | BUILD | BUILD BIN | ||||||||||||
| chimeraviz 1.24.0 (landing page) Stian Lågstad
| kjohnson | macOS 13.0 Ventura / arm64 | OK | OK | OK | ||||||||||||
| Package 8/29 | Hostname | OS / Arch | INSTALL | BUILD | BUILD BIN | ||||||||||||
| COMPASS 1.36.2 (landing page) Greg Finak
| kjohnson | macOS 13.0 Ventura / arm64 | OK | OK | OK | ||||||||||||
| Package 9/29 | Hostname | OS / Arch | INSTALL | BUILD | BUILD BIN | ||||||||||||
| deco 1.14.0 (landing page) Francisco Jose Campos Laborie
| kjohnson | macOS 13.0 Ventura / arm64 | OK | OK | OK | ||||||||||||
| Package 10/29 | Hostname | OS / Arch | INSTALL | BUILD | BUILD BIN | ||||||||||||
| DiscoRhythm 1.14.0 (landing page) Matthew Carlucci
| kjohnson | macOS 13.0 Ventura / arm64 | OK | OK | OK | ||||||||||||
| Package 11/29 | Hostname | OS / Arch | INSTALL | BUILD | BUILD BIN | ||||||||||||
| ExpressionAtlas 1.26.0 (landing page) Pedro Madrigal
| kjohnson | macOS 13.0 Ventura / arm64 | OK | OK | OK | ||||||||||||
| Package 12/29 | Hostname | OS / Arch | INSTALL | BUILD | BUILD BIN | ||||||||||||
| geneXtendeR 1.24.0 (landing page) Bohdan Khomtchouk
| kjohnson | macOS 13.0 Ventura / arm64 | OK | OK | OK | ||||||||||||
| Package 13/29 | Hostname | OS / Arch | INSTALL | BUILD | BUILD BIN | ||||||||||||
| Melissa 1.14.0 (landing page) C. A. Kapourani
| kjohnson | macOS 13.0 Ventura / arm64 | OK | OK | OK | ||||||||||||
| Package 14/29 | Hostname | OS / Arch | INSTALL | BUILD | BUILD BIN | ||||||||||||
| meshr 2.4.0 (landing page) Koki Tsuyuzaki
| kjohnson | macOS 13.0 Ventura / arm64 | OK | OK | OK | ||||||||||||
| Package 15/29 | Hostname | OS / Arch | INSTALL | BUILD | BUILD BIN | ||||||||||||
| MSnID 1.32.0 (landing page) Vlad Petyuk
| kjohnson | macOS 13.0 Ventura / arm64 | OK | OK | OK | ||||||||||||
| Package 16/29 | Hostname | OS / Arch | INSTALL | BUILD | BUILD BIN | ||||||||||||
| netresponse 1.58.0 (landing page) Leo Lahti
| kjohnson | macOS 13.0 Ventura / arm64 | OK | OK | OK | ||||||||||||
| Package 17/29 | Hostname | OS / Arch | INSTALL | BUILD | BUILD BIN | ||||||||||||
| PathoStat 1.24.0 (landing page) Solaiappan Manimaran
| kjohnson | macOS 13.0 Ventura / arm64 | OK | OK | OK | ||||||||||||
| Package 18/29 | Hostname | OS / Arch | INSTALL | BUILD | BUILD BIN | ||||||||||||
| PhyloProfile 1.12.6 (landing page) Vinh Tran
| kjohnson | macOS 13.0 Ventura / arm64 | OK | OK | OK | ||||||||||||
| Package 19/29 | Hostname | OS / Arch | INSTALL | BUILD | BUILD BIN | ||||||||||||
| Pigengene 1.24.0 (landing page) Habil Zare
| kjohnson | macOS 13.0 Ventura / arm64 | OK | OK | OK | ||||||||||||
| Package 20/29 | Hostname | OS / Arch | INSTALL | BUILD | BUILD BIN | ||||||||||||
| rebook 1.8.0 (landing page) Aaron Lun
| kjohnson | macOS 13.0 Ventura / arm64 | OK | OK | OK | ||||||||||||
| Package 21/29 | Hostname | OS / Arch | INSTALL | BUILD | BUILD BIN | ||||||||||||
| regionReport 1.32.0 (landing page) Leonardo Collado-Torres
| kjohnson | macOS 13.0 Ventura / arm64 | OK | OK | OK | ||||||||||||
| Package 22/29 | Hostname | OS / Arch | INSTALL | BUILD | BUILD BIN | ||||||||||||
| Rmmquant 1.16.2 (landing page) Zytnicki Matthias
| kjohnson | macOS 13.0 Ventura / arm64 | OK | OK | OK | ||||||||||||
| Package 23/29 | Hostname | OS / Arch | INSTALL | BUILD | BUILD BIN | ||||||||||||
| RPA 1.54.0 (landing page) Leo Lahti
| kjohnson | macOS 13.0 Ventura / arm64 | OK | OK | OK | ||||||||||||
| Package 24/29 | Hostname | OS / Arch | INSTALL | BUILD | BUILD BIN | ||||||||||||
| Rqc 1.32.0 (landing page) Welliton Souza
| kjohnson | macOS 13.0 Ventura / arm64 | OK | OK | OK | ||||||||||||
| Package 25/29 | Hostname | OS / Arch | INSTALL | BUILD | BUILD BIN | ||||||||||||
| sangeranalyseR 1.8.0 (landing page) Kuan-Hao Chao
| kjohnson | macOS 13.0 Ventura / arm64 | OK | OK | OK | ||||||||||||
| Package 26/29 | Hostname | OS / Arch | INSTALL | BUILD | BUILD BIN | ||||||||||||
| scMET 1.0.0 (landing page) Andreas C. Kapourani
| kjohnson | macOS 13.0 Ventura / arm64 | OK | OK | OK | ||||||||||||
| Package 27/29 | Hostname | OS / Arch | INSTALL | BUILD | BUILD BIN | ||||||||||||
| scTensor 2.8.0 (landing page) Koki Tsuyuzaki
| kjohnson | macOS 13.0 Ventura / arm64 | OK | OK | OK | ||||||||||||
| Package 28/29 | Hostname | OS / Arch | INSTALL | BUILD | BUILD BIN | ||||||||||||
| scTGIF 1.12.0 (landing page) Koki Tsuyuzaki
| kjohnson | macOS 13.0 Ventura / arm64 | OK | OK | OK | ||||||||||||
| Package 29/29 | Hostname | OS / Arch | INSTALL | BUILD | BUILD BIN | ||||||||||||
| srnadiff 1.18.2 (landing page) Zytnicki Matthias
| kjohnson | macOS 13.0 Ventura / arm64 | OK | OK | OK | ||||||||||||