Package: BiocSklearn Version: 1.20.1 Command: /Library/Frameworks/R.framework/Resources/bin/R CMD INSTALL BiocSklearn StartedAt: 2023-04-16 14:49:43 -0400 (Sun, 16 Apr 2023) EndedAt: 2023-04-16 14:50:20 -0400 (Sun, 16 Apr 2023) EllapsedTime: 36.7 seconds RetCode: 0 Status: OK