Package: BiocSklearn Version: 1.20.1 Command: /Library/Frameworks/R.framework/Resources/bin/R CMD build --keep-empty-dirs --no-resave-data BiocSklearn StartedAt: 2023-04-16 21:53:07 -0400 (Sun, 16 Apr 2023) EndedAt: 2023-04-16 21:53:39 -0400 (Sun, 16 Apr 2023) EllapsedTime: 32.1 seconds RetCode: 1 Status: ERROR PackageFile: None PackageFileSize: NA