Package: BiocSklearn Version: 1.19.13 Command: rm -rf BiocSklearn.buildbin-libdir && mkdir BiocSklearn.buildbin-libdir && /Users/biocbuild/BBS/utils/build-universal.sh BiocSklearn_1.19.13.tar.gz /Library/Frameworks/R.framework/Resources/bin/R BiocSklearn.buildbin-libdir StartedAt: 2022-10-06 09:04:05 -0400 (Thu, 06 Oct 2022) EndedAt: 2022-10-06 09:05:01 -0400 (Thu, 06 Oct 2022) EllapsedTime: 56.7 seconds RetCode: 0 Status: OK PackageFile: BiocSklearn_1.19.13.tgz PackageFileSize: 32.72 MiB