Package: BiocSingular Version: 1.14.0 Command: /Library/Frameworks/R.framework/Resources/bin/R CMD build --keep-empty-dirs --no-resave-data BiocSingular StartedAt: 2023-04-16 21:52:15 -0400 (Sun, 16 Apr 2023) EndedAt: 2023-04-16 21:53:07 -0400 (Sun, 16 Apr 2023) EllapsedTime: 51.7 seconds RetCode: 0 Status: OK PackageFile: BiocSingular_1.14.0.tar.gz PackageFileSize: 569.9 KiB