Package: BiocSingular Version: 1.14.0 Command: rm -rf BiocSingular.buildbin-libdir && mkdir BiocSingular.buildbin-libdir && /Users/biocbuild/BBS/utils/build-universal.sh BiocSingular_1.14.0.tar.gz /Library/Frameworks/R.framework/Resources/bin/R BiocSingular.buildbin-libdir StartedAt: 2023-04-18 13:57:08 -0400 (Tue, 18 Apr 2023) EndedAt: 2023-04-18 13:58:13 -0400 (Tue, 18 Apr 2023) EllapsedTime: 66.0 seconds RetCode: 0 Status: OK PackageFile: BiocSingular_1.14.0.tgz PackageFileSize: 884.2 KiB